BEGIN:VCALENDAR
PRODID:-//Calendar export
VERSION:2.0
X-WR-TIMEZONE:Etc/GMT
BEGIN:VTIMEZONE
TZID:GMT Standard Time
BEGIN:STANDARD
TZOFFSETFROM:+0000
TZOFFSETTO:+0000
END:STANDARD
END:VTIMEZONE
BEGIN:VEVENT
UID:AE16272
DTSTAMP:20260420T154900Z
SUMMARY:Abitare e Lavoro\, il ruolo dell’economia sociale nei perco
 rsi per l’auto
 nomia delle persone
CLASS:PUBLIC
DESCRIPTION:Evento all’interno della 48° Festa della cooperazione per i
 l giorno merco
 ledì 29 aprile presso lo Stabilimento Agrintesa  a Bagnacavallo (Via Bonc
 ellino\, 39) alle ore 16\,00:
STATUS:CONFIRMED
PRIORITY:1
DTSTART:20260429T140000Z
DTEND:20260429T160000Z
TRANSP:OPAQUE
END:VEVENT
END:VCALENDAR
